BEGIN:VCALENDAR
VERSION:2.0
PRODID:-//lppo - ECPv6.8.3//NONSGML v1.0//EN
CALSCALE:GREGORIAN
METHOD:PUBLISH
X-WR-CALNAME:lppo
X-ORIGINAL-URL:https://lppo.pl
X-WR-CALDESC:Events for lppo
REFRESH-INTERVAL;VALUE=DURATION:PT1H
X-Robots-Tag:noindex
X-PUBLISHED-TTL:PT1H
BEGIN:VTIMEZONE
TZID:Europe/Warsaw
BEGIN:DAYLIGHT
TZOFFSETFROM:+0100
TZOFFSETTO:+0200
TZNAME:CEST
DTSTART:20240331T010000
END:DAYLIGHT
BEGIN:STANDARD
TZOFFSETFROM:+0200
TZOFFSETTO:+0100
TZNAME:CET
DTSTART:20241027T010000
END:STANDARD
END:VTIMEZONE
BEGIN:VEVENT
DTSTART;TZID=Europe/Warsaw:20240604T090000
DTEND;TZID=Europe/Warsaw:20240605T170000
DTSTAMP:20260420T195338
CREATED:20240319T113405Z
LAST-MODIFIED:20240512T105609Z
UID:5443-1717491600-1717606800@lppo.pl
SUMMARY:Akademia trenera poziom I. Szkolenie dla trenerów\, szkoleniowców
DESCRIPTION:To szkolenie jest dla osób\, które niezależnie od branży szkolą inne osoby. \nTo szkolenie jest również dla managerów\, liderów i kierowników projektów. Dla tych wszystkich\, którzy uważają\, że rozwijanie pracowników to kluczowy element przywództwa.
URL:https://lppo.pl/szkolenie/trening-umiejetnosci-trenera-poziom-podstawowy/
LOCATION:Warszawa
ORGANIZER;CN="LPPO":MAILTO:Bartlomiej.Papisz@lppo.pl
END:VEVENT
BEGIN:VEVENT
DTSTART;TZID=Europe/Warsaw:20240611T090000
DTEND;TZID=Europe/Warsaw:20240611T163000
DTSTAMP:20260420T195338
CREATED:20240512T104806Z
LAST-MODIFIED:20240512T104806Z
UID:5511-1718096400-1718123400@lppo.pl
SUMMARY:Angażujące i skuteczne spotkania
DESCRIPTION:Jak poprowadzić efektywne i angażujące uczestników spotkanie\, niezależnie od jego typu.  To jest jedna z tych umiejętności\, którą warto rozwijać. \nDla kogo jest to szkolenie: \n\nmanagerowie\,\nliderzy\,\nkierownicy projektów\,\nanalitycy biznesowi\,\nscrum master’zy\,\nproduct owner’zy\,\ndyrektorzy\,\nprezesi\,\nwłaściciele firm\,\n\nSzczegółowe informacje
URL:https://lppo.pl/szkolenie/angazujace-i-skuteczne-spotkania/
LOCATION:Warszawa
ORGANIZER;CN="LPPO":MAILTO:Bartlomiej.Papisz@lppo.pl
END:VEVENT
BEGIN:VEVENT
DTSTART;TZID=Europe/Warsaw:20240617T110000
DTEND;TZID=Europe/Warsaw:20240617T120000
DTSTAMP:20260420T195338
CREATED:20240514T063816Z
LAST-MODIFIED:20240514T063816Z
UID:5515-1718622000-1718625600@lppo.pl
SUMMARY:Zostałem Szefem / Managerem i co dalej. Webinar on-line
DESCRIPTION:Zostałem Szefem / Managerem i co dalej… \nKiedy zostajemy Szefem / Managerem wiele rzeczy się zmienia. Jak się odnaleźć w tej roli? O co zadbać? Które kroki zrobić? A czego bezwzględnie nie robić? \nZapraszam na godzinne spotkanie. \n 
URL:https://lppo.pl/szkolenie/zostalem-szefem-managerem-i-co-dalej-webinar-on-line/
ORGANIZER;CN="LPPO":MAILTO:Bartlomiej.Papisz@lppo.pl
END:VEVENT
END:VCALENDAR