BEGIN:VCALENDAR
VERSION:2.0
PRODID:-//lppo - ECPv6.8.3//NONSGML v1.0//EN
CALSCALE:GREGORIAN
METHOD:PUBLISH
X-ORIGINAL-URL:https://lppo.pl
X-WR-CALDESC:Events for lppo
REFRESH-INTERVAL;VALUE=DURATION:PT1H
X-Robots-Tag:noindex
X-PUBLISHED-TTL:PT1H
BEGIN:VTIMEZONE
TZID:Europe/Warsaw
BEGIN:DAYLIGHT
TZOFFSETFROM:+0100
TZOFFSETTO:+0200
TZNAME:CEST
DTSTART:20240331T010000
END:DAYLIGHT
BEGIN:STANDARD
TZOFFSETFROM:+0200
TZOFFSETTO:+0100
TZNAME:CET
DTSTART:20241027T010000
END:STANDARD
END:VTIMEZONE
BEGIN:VEVENT
DTSTART;VALUE=DATE:20240905
DTEND;VALUE=DATE:20240907
DTSTAMP:20260421T021705
CREATED:20240225T120204Z
LAST-MODIFIED:20240725T124731Z
UID:5294-1725494400-1725667199@lppo.pl
SUMMARY:Efektywne zarządzanie projektami - stacjonarne
DESCRIPTION:
URL:https://lppo.pl/szkolenie/efektywne-zarzadzanie-projektami-on-line-2/
LOCATION:Kraków
ORGANIZER;CN="LPPO":MAILTO:Bartlomiej.Papisz@lppo.pl
END:VEVENT
BEGIN:VEVENT
DTSTART;VALUE=DATE:20240911
DTEND;VALUE=DATE:20240912
DTSTAMP:20260421T021705
CREATED:20240512T140726Z
LAST-MODIFIED:20240725T124610Z
UID:5513-1726012800-1726099199@lppo.pl
SUMMARY:Angażujące i skuteczne spotkania - stacjonarne
DESCRIPTION:Jak poprowadzić efektywne i angażujące uczestników spotkanie\, niezależnie od jego typu.  To jest jedna z tych umiejętności\, którą warto rozwijać. \nDla kogo jest to szkolenie: \n\nmanagerowie\,\nliderzy\,\nkierownicy projektów\,\nanalitycy biznesowi\,\nscrum master’zy\,\nproduct owner’zy\,\ndyrektorzy\,\nprezesi\,\nwłaściciele firm\,\n\nSzczegółowe informacje
URL:https://lppo.pl/szkolenie/angazujace-i-skuteczne-spotkania-2/
LOCATION:Kraków
ORGANIZER;CN="LPPO":MAILTO:Bartlomiej.Papisz@lppo.pl
END:VEVENT
BEGIN:VEVENT
DTSTART;VALUE=DATE:20240918
DTEND;VALUE=DATE:20240919
DTSTAMP:20260421T021705
CREATED:20240319T115021Z
LAST-MODIFIED:20240725T125005Z
UID:5451-1726617600-1726703999@lppo.pl
SUMMARY:Asertywność w biznesie i relacjach – stacjonarne
DESCRIPTION:Zainspiruję Ciebie do rozwijania umiejętności bycia asertywnym. Jak być asertywnym i nie burzyć relacji w domu\, pracy?  Jak dbać o siebie i o relacje? Poznasz techniki i narzędzia\, które wspierając w byciu asertywny.
URL:https://lppo.pl/szkolenie/asertywnosc-w-biznesie-i-relacjach-stacjonarne-2/
LOCATION:Kraków
ORGANIZER;CN="LPPO":MAILTO:Bartlomiej.Papisz@lppo.pl
END:VEVENT
BEGIN:VEVENT
DTSTART;VALUE=DATE:20240923
DTEND;VALUE=DATE:20240925
DTSTAMP:20260421T021705
CREATED:20240725T125544Z
LAST-MODIFIED:20240819T131029Z
UID:5534-1727049600-1727222399@lppo.pl
SUMMARY:Trening umiejętności managera. Zarządzanie zespołem - stacjonarne.
DESCRIPTION:
URL:https://lppo.pl/szkolenie/trening-umiejetnosci-managera-zarzadzanie-zespolem/
LOCATION:Kraków
ORGANIZER;CN="LPPO":MAILTO:Bartlomiej.Papisz@lppo.pl
END:VEVENT
BEGIN:VEVENT
DTSTART;VALUE=DATE:20241003
DTEND;VALUE=DATE:20241005
DTSTAMP:20260421T021705
CREATED:20240725T130031Z
LAST-MODIFIED:20240725T130100Z
UID:5536-1727913600-1728086399@lppo.pl
SUMMARY:Sytuacje trudne z pracownikami - stacjonarne
DESCRIPTION:
URL:https://lppo.pl/szkolenie/sytuacje-trudne-z-pracownikami-stacjonarne/
LOCATION:Kraków
ORGANIZER;CN="LPPO":MAILTO:Bartlomiej.Papisz@lppo.pl
END:VEVENT
BEGIN:VEVENT
DTSTART;VALUE=DATE:20241021
DTEND;VALUE=DATE:20241023
DTSTAMP:20260421T021705
CREATED:20231219T104605Z
LAST-MODIFIED:20240725T124657Z
UID:5043-1729468800-1729641599@lppo.pl
SUMMARY:Efektywne zarządzanie projektami - stacjonarne
DESCRIPTION:
URL:https://lppo.pl/szkolenie/efektywne-zarzadzanie-projektami-on-line-2-2/
LOCATION:Kraków
ORGANIZER;CN="LPPO":MAILTO:Bartlomiej.Papisz@lppo.pl
END:VEVENT
BEGIN:VEVENT
DTSTART;VALUE=DATE:20241114
DTEND;VALUE=DATE:20241116
DTSTAMP:20260421T021705
CREATED:20240429T084545Z
LAST-MODIFIED:20240725T123733Z
UID:5482-1731542400-1731715199@lppo.pl
SUMMARY:Efektywne zarządzanie projektami on-line
DESCRIPTION:Szkolenie w formule on-line. Szczegółowe informacje
URL:https://lppo.pl/szkolenie/efektywne-zarzadzanie-projektami-on-line-3/
ORGANIZER;CN="LPPO":MAILTO:Bartlomiej.Papisz@lppo.pl
END:VEVENT
END:VCALENDAR