BEGIN:VCALENDAR
VERSION:2.0
PRODID:-//lppo - ECPv6.8.3//NONSGML v1.0//EN
CALSCALE:GREGORIAN
METHOD:PUBLISH
X-WR-CALNAME:lppo
X-ORIGINAL-URL:https://lppo.pl
X-WR-CALDESC:Events for lppo
REFRESH-INTERVAL;VALUE=DURATION:PT1H
X-Robots-Tag:noindex
X-PUBLISHED-TTL:PT1H
BEGIN:VTIMEZONE
TZID:Europe/Warsaw
BEGIN:DAYLIGHT
TZOFFSETFROM:+0100
TZOFFSETTO:+0200
TZNAME:CEST
DTSTART:20240331T010000
END:DAYLIGHT
BEGIN:STANDARD
TZOFFSETFROM:+0200
TZOFFSETTO:+0100
TZNAME:CET
DTSTART:20241027T010000
END:STANDARD
END:VTIMEZONE
BEGIN:VEVENT
DTSTART;TZID=Europe/Warsaw:20240523T083000
DTEND;TZID=Europe/Warsaw:20240523T163000
DTSTAMP:20260421T023543
CREATED:20240429T090749Z
LAST-MODIFIED:20240512T105710Z
UID:5484-1716453000-1716481800@lppo.pl
SUMMARY:Angażujące i skuteczne spotkania
DESCRIPTION:Jak poprowadzić efektywne i angażujące uczestników spotkanie\, niezależnie od jego typu.  To jest jedna z tych umiejętności\, którą warto rozwijać. \nDla kogo jest to szkolenie: \n\nmanagerowie\,\nliderzy\,\nkierownicy projektów\,\nanalitycy biznesowi\,\nscrum master’zy\,\nproduct owner’zy\,\ndyrektorzy\,\nprezesi\,\nwłaściciele firm\,\n\nSzczegółowe informacje
URL:https://lppo.pl/szkolenie/skuteczne-i-angazujace-uczestnikow-spotkania/
LOCATION:Kraków
ORGANIZER;CN="LPPO":MAILTO:Bartlomiej.Papisz@lppo.pl
END:VEVENT
BEGIN:VEVENT
DTSTART;TZID=Europe/Warsaw:20240507T090000
DTEND;TZID=Europe/Warsaw:20240507T163000
DTSTAMP:20260421T023543
CREATED:20240319T111721Z
LAST-MODIFIED:20240512T105350Z
UID:5434-1715072400-1715099400@lppo.pl
SUMMARY:Asertywność w biznesie i relacjach - stacjonarne
DESCRIPTION:Zainspiruję Ciebie do rozwijania umiejętności bycia asertywnym. \nJak być asertywnym i nie burzyć relacji w domu\, pracy?  Jak dbać o siebie i o relacje? \nPoznasz techniki i narzędzia\, które wspierając w byciu asertywny. \n 
URL:https://lppo.pl/szkolenie/asertywnosc-w-biznesie-i-relacjach/
LOCATION:Łódź
ORGANIZER;CN="LPPO":MAILTO:Bartlomiej.Papisz@lppo.pl
END:VEVENT
END:VCALENDAR